BEGIN:VCALENDAR
VERSION:2.0
PRODID:-//eventon.com NONSGML v1.0//EN
BEGIN:VEVENT
UID:69e8fff6eb305
DTSTAMP:20260422T170558
DTSTART:20221219T140000Z
DTEND:20221229T210000Z
TZID:America/New_York
LOCATION:
SUMMARY:OFF SCHOOL - DAVIS FAMILY YMCA
DESCRIPTION: December 19th &#8211; 29th  9 am &#8211; 4 pm  Register Now Members $40 / Non- Members $45 &nbsp;\nhttps://ymcayo.org/events/off-school-davis-family-ymca/
URL:https://ymcayo.org/events/off-school-davis-family-ymca/
END:VEVENT
END:VCALENDAR