BEGIN:VCALENDAR
VERSION:2.0
PRODID:-//eventon.com NONSGML v1.0//EN
BEGIN:VEVENT
UID:69ed8aac11cb8
DTSTAMP:20260426T034652
DTSTART:20230222T130000Z
DTEND:20230222T133000Z
TZID:America/New_York
LOCATION:
SUMMARY:ASH WEDNESDAY READINGS & ASHES
DESCRIPTION: Wednesday\,  February 22nd 8:00 &#8211; 8:30 am  Central YMCA chapel\nhttps://ymcayo.org/events/ash-wednesday-readings-ashes-2/
URL:https://ymcayo.org/events/ash-wednesday-readings-ashes-2/
END:VEVENT
END:VCALENDAR