BEGIN:VCALENDAR
VERSION:2.0
PRODID:-//eventon.com NONSGML v1.0//EN
BEGIN:VEVENT
UID:69eae4d44d4d7
DTSTAMP:20260424T033444
DTSTART:20240603T223000Z
DTEND:20240607T230300Z
TZID:America/New_York
LOCATION:
SUMMARY:FREE COMMUNITY SWIM LESSONS
DESCRIPTION: Central YMCA Pool Monday\,  June 3rd &#8211; Friday\,  June 7th 6:30 &#8211; 7:30 pm  Free and Open to the Community\nhttps://ymcayo.org/events/free-community-swim-lessons-2/
URL:https://ymcayo.org/events/free-community-swim-lessons-2/
END:VEVENT
END:VCALENDAR