BEGIN:VCALENDAR
VERSION:2.0
PRODID:-//eventon.com NONSGML v1.0//EN
BEGIN:VEVENT
UID:69e62310c50da
DTSTAMP:20260420T125856
DTSTART:20260422T100000Z
DTEND:20260422T220000Z
TZID:America/New_York
LOCATION:
SUMMARY:MAMA'S MORNING BREW COFFEE TRUCK
DESCRIPTION: Davis Family YMCA Wednesday\,  April 22nd Wake Up\nhttps://ymcayo.org/events/mamas-morning-brew-coffee-truck-2/
URL:https://ymcayo.org/events/mamas-morning-brew-coffee-truck-2/
END:VEVENT
END:VCALENDAR