BEGIN:VCALENDAR
VERSION:2.0
PRODID:-//eventon.com NONSGML v1.0//EN
BEGIN:VEVENT
UID:69e5fa608a02a
DTSTAMP:20260420T100520
DTSTART:20260501T210000Z
DTEND:20260502T000000Z
TZID:America/New_York
LOCATION:
SUMMARY:YOUTH NIGHT
DESCRIPTION: Central YMCA Friday\,  May 1st 5:00 pm &#8211; 8:00 pm &nbsp;\nhttps://ymcayo.org/events/youth-night-13/
URL:https://ymcayo.org/events/youth-night-13/
END:VEVENT
END:VCALENDAR