BEGIN:VCALENDAR
VERSION:2.0
PRODID:-//eventon.com NONSGML v1.0//EN
BEGIN:VEVENT
UID:69e62324c18ac
DTSTAMP:20260420T125916
DTSTART:20260507T133000Z
DTEND:20260507T183000Z
TZID:America/New_York
LOCATION:
SUMMARY:BLOOD DRIVE
DESCRIPTION: Davis Family YMCA Thursday\,  May 7th 9:20 am &#8211; 2:30 pm Davis Family Multipurpose Room\nhttps://ymcayo.org/events/blood-drive-4/
URL:https://ymcayo.org/events/blood-drive-4/
END:VEVENT
END:VCALENDAR